BEGIN:VCALENDAR
VERSION:2.0
PRODID:-//Inside New Mexico Courts - ECPv6.15.17.1//NONSGML v1.0//EN
CALSCALE:GREGORIAN
METHOD:PUBLISH
X-ORIGINAL-URL:https://inside.nmcourts.xyz
X-WR-CALDESC:Events for Inside New Mexico Courts
REFRESH-INTERVAL;VALUE=DURATION:PT1H
X-Robots-Tag:noindex
X-PUBLISHED-TTL:PT1H
BEGIN:VTIMEZONE
TZID:America/Denver
BEGIN:DAYLIGHT
TZOFFSETFROM:-0700
TZOFFSETTO:-0600
TZNAME:MDT
DTSTART:20250309T090000
END:DAYLIGHT
BEGIN:STANDARD
TZOFFSETFROM:-0600
TZOFFSETTO:-0700
TZNAME:MST
DTSTART:20251102T080000
END:STANDARD
BEGIN:DAYLIGHT
TZOFFSETFROM:-0700
TZOFFSETTO:-0600
TZNAME:MDT
DTSTART:20260308T090000
END:DAYLIGHT
BEGIN:STANDARD
TZOFFSETFROM:-0600
TZOFFSETTO:-0700
TZNAME:MST
DTSTART:20261101T080000
END:STANDARD
BEGIN:DAYLIGHT
TZOFFSETFROM:-0700
TZOFFSETTO:-0600
TZNAME:MDT
DTSTART:20270314T090000
END:DAYLIGHT
BEGIN:STANDARD
TZOFFSETFROM:-0600
TZOFFSETTO:-0700
TZNAME:MST
DTSTART:20271107T080000
END:STANDARD
END:VTIMEZONE
BEGIN:VEVENT
DTSTART;TZID=America/Denver:20260508T120000
DTEND;TZID=America/Denver:20260508T130000
DTSTAMP:20260420T072620
CREATED:20260226T195744Z
LAST-MODIFIED:20260227T154301Z
UID:10000029-1778241600-1778245200@inside.nmcourts.xyz
SUMMARY:Judicial Insights Webinar
DESCRIPTION:Judicial Insights is a monthly webcast series with topics of interest to the Judiciary. \nSERIES: Assisted Outpatient Treatment pt. 2 \nPRESENTER: Stacey Boone\, Senior Statewide Behavioral Health Manager \nAudience: Entire Judiciary\, inc. Muni / Probate / Tribal \nContact: courteducation@nmcourts.gov
URL:https://inside.nmcourts.xyz/event/judicial-insights-webinar-3/
LOCATION:Online
CATEGORIES:Training,Webinar
ATTACH;FMTTYPE=image/png:https://inside.nmcourts.gov/wp-content/uploads/sites/52/2026/02/JUDICIAL-INSIGHTS-ORANGE-WSEAL.png
END:VEVENT
END:VCALENDAR