BEGIN:VCALENDAR
VERSION:2.0
PRODID:-//Inside New Mexico Courts - ECPv6.15.17.1//NONSGML v1.0//EN
CALSCALE:GREGORIAN
METHOD:PUBLISH
X-ORIGINAL-URL:https://inside.nmcourts.xyz
X-WR-CALDESC:Events for Inside New Mexico Courts
REFRESH-INTERVAL;VALUE=DURATION:PT1H
X-Robots-Tag:noindex
X-PUBLISHED-TTL:PT1H
BEGIN:VTIMEZONE
TZID:America/Denver
BEGIN:DAYLIGHT
TZOFFSETFROM:-0700
TZOFFSETTO:-0600
TZNAME:MDT
DTSTART:20250309T090000
END:DAYLIGHT
BEGIN:STANDARD
TZOFFSETFROM:-0600
TZOFFSETTO:-0700
TZNAME:MST
DTSTART:20251102T080000
END:STANDARD
BEGIN:DAYLIGHT
TZOFFSETFROM:-0700
TZOFFSETTO:-0600
TZNAME:MDT
DTSTART:20260308T090000
END:DAYLIGHT
BEGIN:STANDARD
TZOFFSETFROM:-0600
TZOFFSETTO:-0700
TZNAME:MST
DTSTART:20261101T080000
END:STANDARD
BEGIN:DAYLIGHT
TZOFFSETFROM:-0700
TZOFFSETTO:-0600
TZNAME:MDT
DTSTART:20270314T090000
END:DAYLIGHT
BEGIN:STANDARD
TZOFFSETFROM:-0600
TZOFFSETTO:-0700
TZNAME:MST
DTSTART:20271107T080000
END:STANDARD
END:VTIMEZONE
BEGIN:VEVENT
DTSTART;TZID=America/Denver:20260312T090000
DTEND;TZID=America/Denver:20260312T100000
DTSTAMP:20260420T085529
CREATED:20260312T222946Z
LAST-MODIFIED:20260312T225236Z
UID:10000042-1773306000-1773309600@inside.nmcourts.xyz
SUMMARY:Kiosk Upgrade Training
DESCRIPTION:Learn how to walk the public through using our new kiosks!\nAudience: Anyone can sign up (highly recommended for IT staff and Judicial Specialists). \nTraining content:\n1. Why do we need a Kiosk Upgrade?\n2. Overview of what has changed\n3. New Kiosk functionality features\n4. How do changes impact you?\n5. Modules walkthrough demo
URL:https://inside.nmcourts.xyz/event/kiosk-upgrade-training/
LOCATION:Online
CATEGORIES:Training,Webinar
ATTACH;FMTTYPE=image/png:https://inside.nmcourts.gov/wp-content/uploads/sites/52/2026/03/2026-03-12_10-22-58.png
ORGANIZER;CN="JID - Project Management Team":MAILTO:pmt@nmcourts.gov
END:VEVENT
END:VCALENDAR