BEGIN:VCALENDAR
VERSION:2.0
PRODID:-//Judiciary Education Calendar - ECPv6.15.17.1//NONSGML v1.0//EN
CALSCALE:GREGORIAN
METHOD:PUBLISH
X-WR-CALNAME:Judiciary Education Calendar
X-ORIGINAL-URL:https://inside.nmcourts.xyz
X-WR-CALDESC:Events for Judiciary Education Calendar
REFRESH-INTERVAL;VALUE=DURATION:PT1H
X-Robots-Tag:noindex
X-PUBLISHED-TTL:PT1H
BEGIN:VTIMEZONE
TZID:America/Denver
BEGIN:DAYLIGHT
TZOFFSETFROM:-0700
TZOFFSETTO:-0600
TZNAME:MDT
DTSTART:20250309T090000
END:DAYLIGHT
BEGIN:STANDARD
TZOFFSETFROM:-0600
TZOFFSETTO:-0700
TZNAME:MST
DTSTART:20251102T080000
END:STANDARD
BEGIN:DAYLIGHT
TZOFFSETFROM:-0700
TZOFFSETTO:-0600
TZNAME:MDT
DTSTART:20260308T090000
END:DAYLIGHT
BEGIN:STANDARD
TZOFFSETFROM:-0600
TZOFFSETTO:-0700
TZNAME:MST
DTSTART:20261101T080000
END:STANDARD
BEGIN:DAYLIGHT
TZOFFSETFROM:-0700
TZOFFSETTO:-0600
TZNAME:MDT
DTSTART:20270314T090000
END:DAYLIGHT
BEGIN:STANDARD
TZOFFSETFROM:-0600
TZOFFSETTO:-0700
TZNAME:MST
DTSTART:20271107T080000
END:STANDARD
END:VTIMEZONE
BEGIN:VEVENT
DTSTART;TZID=America/Denver:20260508T120000
DTEND;TZID=America/Denver:20260508T130000
DTSTAMP:20260420T072203
CREATED:20260226T195744Z
LAST-MODIFIED:20260227T154301Z
UID:10000029-1778241600-1778245200@inside.nmcourts.xyz
SUMMARY:Judicial Insights Webinar
DESCRIPTION:Judicial Insights is a monthly webcast series with topics of interest to the Judiciary. \nSERIES: Assisted Outpatient Treatment pt. 2 \nPRESENTER: Stacey Boone\, Senior Statewide Behavioral Health Manager \nAudience: Entire Judiciary\, inc. Muni / Probate / Tribal \nContact: courteducation@nmcourts.gov
URL:https://inside.nmcourts.xyz/event/judicial-insights-webinar-3/
LOCATION:Online
CATEGORIES:Training,Webinar
ATTACH;FMTTYPE=image/png:https://inside.nmcourts.gov/wp-content/uploads/sites/52/2026/02/JUDICIAL-INSIGHTS-ORANGE-WSEAL.png
END:VEVENT
BEGIN:VEVENT
DTSTART;TZID=America/Denver:20260512T080000
DTEND;TZID=America/Denver:20260512T170000
DTSTAMP:20260420T072203
CREATED:20260226T185150Z
LAST-MODIFIED:20260304T215718Z
UID:10000014-1778572800-1778605200@inside.nmcourts.xyz
SUMMARY:New Employee Orientation
DESCRIPTION:The Administrative Office of the Courts Human Resource Division (AOC HRD) conducts a statewide comprehensive hybrid (in-person and virtual) New & Existing Employee Orientation (NEO) monthly\, offered in Santa Fe and Albuquerque on a rotating basis.  The NEO is an onboarding process focused on welcoming and connecting judicial employees. The NEO includes five (5) modules. The modules covered are: Structure of the Judiciary and Background of the AOC\, an overview of the NM Judicial Branch Personnel Rules Part I and II and the NMJB Judicial Code of Conduct\, a training on Loss Control\, Fraud Reporting\, Drug & Alcohol Prevention and Testing\, Computer and Internet Use\, an overview of the Harassment\, Discrimination\, and Retaliation Prevention Policy\, and an overview of Benefits\, including PERA and Payroll. Please visit our website at https://humanresources.nmcourts.gov/employee-management/new-employees-recruitment-selection-toolkit/ for a schedule of upcoming NEO presentations. \nAudience: New Employees \nContact: aochrd-grp@nmcourts.gov  \n 
URL:https://inside.nmcourts.xyz/event/new-employee-orientation-3/
LOCATION:AOC Marcy\, 202 E Marcy St\, Santa Fe\, NM\, 87501\, United States
CATEGORIES:Training
ATTACH;FMTTYPE=image/png:https://inside.nmcourts.gov/wp-content/uploads/sites/52/2026/02/Motivational-Interviewing-Training-8.png
ORGANIZER;CN="Human Resources":MAILTO:aochrd@nmcourts.gov
END:VEVENT
BEGIN:VEVENT
DTSTART;TZID=America/Denver:20260518T080000
DTEND;TZID=America/Denver:20260520T170000
DTSTAMP:20260420T072203
CREATED:20260227T225207Z
LAST-MODIFIED:20260227T225207Z
UID:10000037-1779091200-1779296400@inside.nmcourts.xyz
SUMMARY:Magistrate Supervisory Leadership Forum
DESCRIPTION:Provide valuable training\, network\, and professional growth opportunities for court staff and leadership across the state. \nAudience: Magistrate Courts \nContact:  \nValerie Vega\nStatewide program manager\naocvmm@nmcourts.gov
URL:https://inside.nmcourts.xyz/event/magistrate-supervisory-leadership-forum/
LOCATION:Santa Ana Star Casino Hotel\, 54 Jemez Canyon Dam Rd\, Bernalillo\, NM\, 87004\, United States
CATEGORIES:Training
ATTACH;FMTTYPE=image/png:https://inside.nmcourts.gov/wp-content/uploads/sites/52/2026/02/Motivational-Interviewing-Training-15.png
END:VEVENT
END:VCALENDAR