BEGIN:VCALENDAR
VERSION:2.0
PRODID:-//Judiciary Education Calendar - ECPv6.15.17.1//NONSGML v1.0//EN
CALSCALE:GREGORIAN
METHOD:PUBLISH
X-WR-CALNAME:Judiciary Education Calendar
X-ORIGINAL-URL:https://inside.nmcourts.xyz
X-WR-CALDESC:Events for Judiciary Education Calendar
REFRESH-INTERVAL;VALUE=DURATION:PT1H
X-Robots-Tag:noindex
X-PUBLISHED-TTL:PT1H
BEGIN:VTIMEZONE
TZID:America/Denver
BEGIN:DAYLIGHT
TZOFFSETFROM:-0700
TZOFFSETTO:-0600
TZNAME:MDT
DTSTART:20250309T090000
END:DAYLIGHT
BEGIN:STANDARD
TZOFFSETFROM:-0600
TZOFFSETTO:-0700
TZNAME:MST
DTSTART:20251102T080000
END:STANDARD
BEGIN:DAYLIGHT
TZOFFSETFROM:-0700
TZOFFSETTO:-0600
TZNAME:MDT
DTSTART:20260308T090000
END:DAYLIGHT
BEGIN:STANDARD
TZOFFSETFROM:-0600
TZOFFSETTO:-0700
TZNAME:MST
DTSTART:20261101T080000
END:STANDARD
BEGIN:DAYLIGHT
TZOFFSETFROM:-0700
TZOFFSETTO:-0600
TZNAME:MDT
DTSTART:20270314T090000
END:DAYLIGHT
BEGIN:STANDARD
TZOFFSETFROM:-0600
TZOFFSETTO:-0700
TZNAME:MST
DTSTART:20271107T080000
END:STANDARD
END:VTIMEZONE
BEGIN:VEVENT
DTSTART;TZID=America/Denver:20260304T140000
DTEND;TZID=America/Denver:20260304T150000
DTSTAMP:20260420T072217
CREATED:20260318T043422Z
LAST-MODIFIED:20260320T221333Z
UID:10000041-1772632800-1772636400@inside.nmcourts.xyz
SUMMARY:FBI/NICS Reporting
DESCRIPTION:Monthly meetings on the first Wednesday of every month for district\, magistrate and metro court staff who handle FBI/NICS National Instant Criminal Background Check System (NICS) requests.
URL:https://inside.nmcourts.xyz/event/fbi-nics-reporting/
LOCATION:Online
CATEGORIES:Training,Webinar
ATTACH;FMTTYPE=image/png:https://inside.nmcourts.gov/wp-content/uploads/sites/52/2026/03/Motivational-Interviewing-Training-16.png
END:VEVENT
BEGIN:VEVENT
DTSTART;TZID=America/Denver:20260312T090000
DTEND;TZID=America/Denver:20260312T100000
DTSTAMP:20260420T072217
CREATED:20260312T222946Z
LAST-MODIFIED:20260312T225236Z
UID:10000042-1773306000-1773309600@inside.nmcourts.xyz
SUMMARY:Kiosk Upgrade Training
DESCRIPTION:Learn how to walk the public through using our new kiosks!\nAudience: Anyone can sign up (highly recommended for IT staff and Judicial Specialists). \nTraining content:\n1. Why do we need a Kiosk Upgrade?\n2. Overview of what has changed\n3. New Kiosk functionality features\n4. How do changes impact you?\n5. Modules walkthrough demo
URL:https://inside.nmcourts.xyz/event/kiosk-upgrade-training/
LOCATION:Online
CATEGORIES:Training,Webinar
ATTACH;FMTTYPE=image/png:https://inside.nmcourts.gov/wp-content/uploads/sites/52/2026/03/2026-03-12_10-22-58.png
ORGANIZER;CN="JID - Project Management Team":MAILTO:pmt@nmcourts.gov
END:VEVENT
BEGIN:VEVENT
DTSTART;TZID=America/Denver:20260313T120000
DTEND;TZID=America/Denver:20260313T130000
DTSTAMP:20260420T072217
CREATED:20260226T193850Z
LAST-MODIFIED:20260227T154427Z
UID:10000027-1773403200-1773406800@inside.nmcourts.xyz
SUMMARY:Judicial Insights Webinar
DESCRIPTION:Judicial Insights is a monthly webcast series with topics of interest to the Judiciary. \nSERIES: DWI and Traffic Law \nTOPIC: Traffic Laws and CDL Considerations \nPRESENTER: Hon. Kevin Fitzwater\, Bernalillo Metropolitan Court (Ret.) \nAudience: Entire Judiciary\, inc. Muni / Probate / Tribal \nContact: courteducation@nmcourts.gov
URL:https://inside.nmcourts.xyz/event/judicial-insights-webinar/
LOCATION:Online
CATEGORIES:Training,Webinar
ATTACH;FMTTYPE=image/png:https://inside.nmcourts.gov/wp-content/uploads/sites/52/2026/02/JUDICIAL-INSIGHTS-ORANGE-WSEAL.png
END:VEVENT
BEGIN:VEVENT
DTSTART;TZID=America/Denver:20260317T080000
DTEND;TZID=America/Denver:20260317T170000
DTSTAMP:20260420T072217
CREATED:20260226T181845Z
LAST-MODIFIED:20260304T215447Z
UID:10000012-1773734400-1773766800@inside.nmcourts.xyz
SUMMARY:New Employee Orientation
DESCRIPTION:The Administrative Office of the Courts Human Resource Division (AOC HRD) conducts a statewide comprehensive hybrid (in-person and virtual) New & Existing Employee Orientation (NEO) monthly\, offered in Santa Fe and Albuquerque on a rotating basis.  The NEO is an onboarding process focused on welcoming and connecting judicial employees. The NEO includes five (5) modules. The modules covered are: Structure of the Judiciary and Background of the AOC\, an overview of the NM Judicial Branch Personnel Rules Part I and II and the NMJB Judicial Code of Conduct\, a training on Loss Control\, Fraud Reporting\, Drug & Alcohol Prevention and Testing\, Computer and Internet Use\, an overview of the Harassment\, Discrimination\, and Retaliation Prevention Policy\, and an overview of Benefits\, including PERA and Payroll. Please visit our website at https://humanresources.nmcourts.gov/employee-management/new-employees-recruitment-selection-toolkit/ for a schedule of upcoming NEO presentations.  \nAudience: New Employees \nContact: aochrd-grp@nmcourts.gov  \n 
URL:https://inside.nmcourts.xyz/event/new-employee-orientation/
LOCATION:AOC Marcy\, 202 E Marcy St\, Santa Fe\, NM\, 87501\, United States
CATEGORIES:Training
ATTACH;FMTTYPE=image/png:https://inside.nmcourts.gov/wp-content/uploads/sites/52/2026/02/Motivational-Interviewing-Training-8.png
ORGANIZER;CN="Human Resources":MAILTO:aochrd@nmcourts.gov
END:VEVENT
BEGIN:VEVENT
DTSTART;TZID=America/Denver:20260324T110000
DTEND;TZID=America/Denver:20260324T113000
DTSTAMP:20260420T072217
CREATED:20260309T210139Z
LAST-MODIFIED:20260320T233148Z
UID:10000038-1774350000-1774351800@inside.nmcourts.xyz
SUMMARY:Odyssey Training Tuesday
DESCRIPTION:Training Tuesdays provides 30 minutes of training focused on Odyssey Tools to help build your Odyssey skills. \nTopic: Odyssey Best Practices and Tips & Tricks When Running\, Memorizing or Scheduling Reports\, in Odyssey \nAudience: Court Staff who Run\, Memorize or Schedule Reports\, in Odyssey
URL:https://inside.nmcourts.xyz/event/odyssey-training-tuesday/
LOCATION:Online
CATEGORIES:Training,Webinar
ATTACH;FMTTYPE=image/png:https://inside.nmcourts.gov/wp-content/uploads/sites/52/2026/03/image-1.png
END:VEVENT
END:VCALENDAR